BEGIN:VCALENDAR
VERSION:2.0
PRODID:-//The Franklin Shopper - ECPv6.15.18//NONSGML v1.0//EN
CALSCALE:GREGORIAN
METHOD:PUBLISH
X-WR-CALNAME:The Franklin Shopper
X-ORIGINAL-URL:https://www.franklinshopper.com
X-WR-CALDESC:Events for The Franklin Shopper
REFRESH-INTERVAL;VALUE=DURATION:PT1H
X-Robots-Tag:noindex
X-PUBLISHED-TTL:PT1H
BEGIN:VTIMEZONE
TZID:America/New_York
BEGIN:DAYLIGHT
TZOFFSETFROM:-0500
TZOFFSETTO:-0400
TZNAME:EDT
DTSTART:20250309T070000
END:DAYLIGHT
BEGIN:STANDARD
TZOFFSETFROM:-0400
TZOFFSETTO:-0500
TZNAME:EST
DTSTART:20251102T060000
END:STANDARD
BEGIN:DAYLIGHT
TZOFFSETFROM:-0500
TZOFFSETTO:-0400
TZNAME:EDT
DTSTART:20260308T070000
END:DAYLIGHT
BEGIN:STANDARD
TZOFFSETFROM:-0400
TZOFFSETTO:-0500
TZNAME:EST
DTSTART:20261101T060000
END:STANDARD
BEGIN:DAYLIGHT
TZOFFSETFROM:-0500
TZOFFSETTO:-0400
TZNAME:EDT
DTSTART:20270314T070000
END:DAYLIGHT
BEGIN:STANDARD
TZOFFSETFROM:-0400
TZOFFSETTO:-0500
TZNAME:EST
DTSTART:20271107T060000
END:STANDARD
END:VTIMEZONE
BEGIN:VEVENT
DTSTART;TZID=America/New_York:20260513T180000
DTEND;TZID=America/New_York:20260513T200000
DTSTAMP:20260425T154107
CREATED:20260422T124108Z
LAST-MODIFIED:20260422T124108Z
UID:10002012-1778695200-1778702400@www.franklinshopper.com
SUMMARY:Strawberry Twilight Meeting - Maplewood Farm Market
DESCRIPTION:Join us on May 13 at a PVGA-sponsored event to learn about strawberry production at Maplewood Farm Market. Host Reuben Martin will talk about his strawberry field and plug production practices\, varieties\, and disease management. The meeting will be held at 8564 Olde Scotland Rd\, Shippensburg\, PA 17257. A free meal will be provided\, including deli sandwiches\, chips\, drinks\, and ice cream from Maplewood Farm Market. To register\, call Jennie Mazzone\, Penn State Extension Horticulture Educator\, at 717-809-2198.
URL:https://www.franklinshopper.com/event/strawberry-twilight-meeting-maplewood-farm-market/
LOCATION:Maplewood Farm Market\, 8564 Olde Scotland Rd\, Shippensburg\, PA\, 17257\, United States
ATTACH;FMTTYPE=image/jpeg:https://www.franklinshopper.com/wp-content/uploads/2026/04/AdobeStock_267500997-scaled-e1776861639864.jpeg
END:VEVENT
END:VCALENDAR