BEGIN:VCALENDAR
VERSION:2.0
PRODID:-//The Franklin Shopper - ECPv6.15.18//NONSGML v1.0//EN
CALSCALE:GREGORIAN
METHOD:PUBLISH
X-ORIGINAL-URL:https://www.franklinshopper.com
X-WR-CALDESC:Events for The Franklin Shopper
REFRESH-INTERVAL;VALUE=DURATION:PT1H
X-Robots-Tag:noindex
X-PUBLISHED-TTL:PT1H
BEGIN:VTIMEZONE
TZID:America/New_York
BEGIN:DAYLIGHT
TZOFFSETFROM:-0500
TZOFFSETTO:-0400
TZNAME:EDT
DTSTART:20250309T070000
END:DAYLIGHT
BEGIN:STANDARD
TZOFFSETFROM:-0400
TZOFFSETTO:-0500
TZNAME:EST
DTSTART:20251102T060000
END:STANDARD
BEGIN:DAYLIGHT
TZOFFSETFROM:-0500
TZOFFSETTO:-0400
TZNAME:EDT
DTSTART:20260308T070000
END:DAYLIGHT
BEGIN:STANDARD
TZOFFSETFROM:-0400
TZOFFSETTO:-0500
TZNAME:EST
DTSTART:20261101T060000
END:STANDARD
BEGIN:DAYLIGHT
TZOFFSETFROM:-0500
TZOFFSETTO:-0400
TZNAME:EDT
DTSTART:20270314T070000
END:DAYLIGHT
BEGIN:STANDARD
TZOFFSETFROM:-0400
TZOFFSETTO:-0500
TZNAME:EST
DTSTART:20271107T060000
END:STANDARD
END:VTIMEZONE
BEGIN:VEVENT
DTSTART;VALUE=DATE:20260605
DTEND;VALUE=DATE:20260608
DTSTAMP:20260419T150921
CREATED:20260330T122339Z
LAST-MODIFIED:20260330T122339Z
UID:10001244-1780617600-1780876799@www.franklinshopper.com
SUMMARY:Mason Dixon Flea Market Grand Opening
DESCRIPTION:Mason Dixon Flea Market Grand Opening April 10-11-12 Fri-Sun 7:00am to ? Located at 12876 Molly Pitcher Hwy Greencastle Pa (Mason Dixon Auto Auction Grounds) right along I-81 Exit 3 \, great bargins\, great food and great vendors! Something for everyone! Interested in setting up? Call 717-765-1311 or 717-765-1290 after Grand opening weekend open every Friday\,Saturday and Sunday till November with themed weekends throughout the year!
URL:https://www.franklinshopper.com/event/mason-dixon-flea-market-grand-opening/2026-06-05/
LOCATION:Mason Dixon Auto Auction\, 12976 Molly Pitcher Hwy\, Greencastle\, PA\, 17225\, United States
ATTACH;FMTTYPE=image/png:https://www.franklinshopper.com/wp-content/uploads/2026/03/IMG_4482.png
END:VEVENT
BEGIN:VEVENT
DTSTART;TZID=America/New_York:20260605T080000
DTEND;TZID=America/New_York:20260605T130000
DTSTAMP:20260419T150921
CREATED:20260417T122445Z
LAST-MODIFIED:20260417T122746Z
UID:10002008-1780646400-1780664400@www.franklinshopper.com
SUMMARY:Cumberland Valley Animal Shelter Benefit Golf Tournament
DESCRIPTION:It’s ‘A Cause for the Paws” Friday June 5\, hosted at Cumberland Golf Club north of Shippensburg\, PA. This foursome scramble raises funds going directly to shelter\, food and medical care if necessary for homeless animals seeking adoption at Cumberland Valley Animal Shelter. Sign-in begins at 7:15 AM\, shotgun start at 8:00 am. Foursomes $350\, Foursomes and supporter sign $425. Single players for $95. Registration includes golf\, cart\, player goodie bag\, luncheon\, team photos\, a variety of team and course prizes (including longest drive and six prizes for closest-to-the-pin)\, plus a 50/50 drawing and a unique-to-the-area Pebble Beach Hole-In-One Contest!
URL:https://www.franklinshopper.com/event/cumberland-valley-animal-shelter-benefit-golf-tournament/
LOCATION:Cumberland Golf Club\, 2395 Ritner Highway\, Carlisle\, PA\, 17015\, United States
ATTACH;FMTTYPE=image/jpeg:https://www.franklinshopper.com/wp-content/uploads/2026/04/2026-Golf-Event-Flyer-scaled.jpg
END:VEVENT
END:VCALENDAR