BEGIN:VCALENDAR
VERSION:2.0
PRODID:-//The Franklin Shopper - ECPv6.15.18//NONSGML v1.0//EN
CALSCALE:GREGORIAN
METHOD:PUBLISH
X-WR-CALNAME:The Franklin Shopper
X-ORIGINAL-URL:https://www.franklinshopper.com
X-WR-CALDESC:Events for The Franklin Shopper
REFRESH-INTERVAL;VALUE=DURATION:PT1H
X-Robots-Tag:noindex
X-PUBLISHED-TTL:PT1H
BEGIN:VTIMEZONE
TZID:America/New_York
BEGIN:DAYLIGHT
TZOFFSETFROM:-0500
TZOFFSETTO:-0400
TZNAME:EDT
DTSTART:20250309T070000
END:DAYLIGHT
BEGIN:STANDARD
TZOFFSETFROM:-0400
TZOFFSETTO:-0500
TZNAME:EST
DTSTART:20251102T060000
END:STANDARD
BEGIN:DAYLIGHT
TZOFFSETFROM:-0500
TZOFFSETTO:-0400
TZNAME:EDT
DTSTART:20260308T070000
END:DAYLIGHT
BEGIN:STANDARD
TZOFFSETFROM:-0400
TZOFFSETTO:-0500
TZNAME:EST
DTSTART:20261101T060000
END:STANDARD
BEGIN:DAYLIGHT
TZOFFSETFROM:-0500
TZOFFSETTO:-0400
TZNAME:EDT
DTSTART:20270314T070000
END:DAYLIGHT
BEGIN:STANDARD
TZOFFSETFROM:-0400
TZOFFSETTO:-0500
TZNAME:EST
DTSTART:20271107T060000
END:STANDARD
END:VTIMEZONE
BEGIN:VEVENT
DTSTART;TZID=America/New_York:20261007T120000
DTEND;TZID=America/New_York:20261007T131500
DTSTAMP:20260422T150008
CREATED:20260422T130318Z
LAST-MODIFIED:20260422T130318Z
UID:10002019-1791374400-1791378900@www.franklinshopper.com
SUMMARY:"Decay Demystified: Understanding Mushrooms and Tree Decay" Webinar Series
DESCRIPTION:Dig into the fascinating world of mushrooms in this two-part webinar series. Learn to distinguish fungi that harm living trees from those that recycle dead organic matter and build healthy soil. Using real mushroom samples\, participants will explore key features and identification techniques for major fungal groups while examining the ecological roles of fungi\, including beneficial and parasitic relationships with trees. Participants will gain practical skills for spotting decay pathogens\, assessing tree health\, and using reliable resources for accurate mushroom identification. The registration fee is $20 for this webinar series. International Society of Arboriculture\, Society of American Foresters\, and Pennsylvania Landscape and Nursery Association credits are available. For more information and to register online\, please visit https://extension.psu.edu/decay-demystified-understanding-mushrooms-and-tree-decay.
URL:https://www.franklinshopper.com/event/decay-demystified-understanding-mushrooms-and-tree-decay-webinar-series/2026-10-07/
ATTACH;FMTTYPE=image/webp:https://www.franklinshopper.com/wp-content/uploads/2026/04/2e5f4296389859d6aa8ab75d34e81c0d.webp
END:VEVENT
BEGIN:VEVENT
DTSTART;TZID=America/New_York:20261014T120000
DTEND;TZID=America/New_York:20261014T131500
DTSTAMP:20260422T150008
CREATED:20260422T130318Z
LAST-MODIFIED:20260422T130318Z
UID:10002020-1791979200-1791983700@www.franklinshopper.com
SUMMARY:"Decay Demystified: Understanding Mushrooms and Tree Decay" Webinar Series
DESCRIPTION:Dig into the fascinating world of mushrooms in this two-part webinar series. Learn to distinguish fungi that harm living trees from those that recycle dead organic matter and build healthy soil. Using real mushroom samples\, participants will explore key features and identification techniques for major fungal groups while examining the ecological roles of fungi\, including beneficial and parasitic relationships with trees. Participants will gain practical skills for spotting decay pathogens\, assessing tree health\, and using reliable resources for accurate mushroom identification. The registration fee is $20 for this webinar series. International Society of Arboriculture\, Society of American Foresters\, and Pennsylvania Landscape and Nursery Association credits are available. For more information and to register online\, please visit https://extension.psu.edu/decay-demystified-understanding-mushrooms-and-tree-decay.
URL:https://www.franklinshopper.com/event/decay-demystified-understanding-mushrooms-and-tree-decay-webinar-series/2026-10-14/
ATTACH;FMTTYPE=image/webp:https://www.franklinshopper.com/wp-content/uploads/2026/04/2e5f4296389859d6aa8ab75d34e81c0d.webp
END:VEVENT
END:VCALENDAR