BEGIN:VCALENDAR
VERSION:2.0
PRODID:-//The Franklin Shopper - ECPv6.15.18//NONSGML v1.0//EN
CALSCALE:GREGORIAN
METHOD:PUBLISH
X-WR-CALNAME:The Franklin Shopper
X-ORIGINAL-URL:https://www.franklinshopper.com
X-WR-CALDESC:Events for The Franklin Shopper
REFRESH-INTERVAL;VALUE=DURATION:PT1H
X-Robots-Tag:noindex
X-PUBLISHED-TTL:PT1H
BEGIN:VTIMEZONE
TZID:America/New_York
BEGIN:DAYLIGHT
TZOFFSETFROM:-0500
TZOFFSETTO:-0400
TZNAME:EDT
DTSTART:20250309T070000
END:DAYLIGHT
BEGIN:STANDARD
TZOFFSETFROM:-0400
TZOFFSETTO:-0500
TZNAME:EST
DTSTART:20251102T060000
END:STANDARD
BEGIN:DAYLIGHT
TZOFFSETFROM:-0500
TZOFFSETTO:-0400
TZNAME:EDT
DTSTART:20260308T070000
END:DAYLIGHT
BEGIN:STANDARD
TZOFFSETFROM:-0400
TZOFFSETTO:-0500
TZNAME:EST
DTSTART:20261101T060000
END:STANDARD
BEGIN:DAYLIGHT
TZOFFSETFROM:-0500
TZOFFSETTO:-0400
TZNAME:EDT
DTSTART:20270314T070000
END:DAYLIGHT
BEGIN:STANDARD
TZOFFSETFROM:-0400
TZOFFSETTO:-0500
TZNAME:EST
DTSTART:20271107T060000
END:STANDARD
END:VTIMEZONE
BEGIN:VEVENT
DTSTART;TZID=America/New_York:20260117T183000
DTEND;TZID=America/New_York:20260117T203000
DTSTAMP:20260420T115917
CREATED:20260112T150750Z
LAST-MODIFIED:20260112T150750Z
UID:10001144-1768674600-1768681800@www.franklinshopper.com
SUMMARY:Creatures of the Night (Families)
DESCRIPTION:Bring your family to Buttonwood Nature Center on January 17\, at 6:30 p.m. to experience winter wildlife at night with a Buttonwood naturalist. A short pre-hike learning session will explore native crepuscular and nocturnal animals like owls\, foxes\, and others. Following the learning session\, we will head out on one of Buttonwood’s trails for an evening hike to listen and look for some of the winter nighttime critters. Bring your own red-light flashlight and dress warmly for the weather. Registration is required\, and space is limited. The fee for the program is $5 per person. For more information or to register\, visit buttonwoodnaturecenter.org\, call 717-762-0373 or email info@buttonwoodnaturecenter.org.
URL:https://www.franklinshopper.com/event/creatures-of-the-night-families/
LOCATION:Buttonwood Nature Center\, 10356 Amsterdam Road\, Waynesboro\, PA\, 17268
ATTACH;FMTTYPE=image/png:https://www.franklinshopper.com/wp-content/uploads/2026/01/26_01-17_CreaturesNight_AD.png
END:VEVENT
BEGIN:VEVENT
DTSTART;TZID=America/New_York:20260110T183000
DTEND;TZID=America/New_York:20260110T203000
DTSTAMP:20260420T115917
CREATED:20260107T131754Z
LAST-MODIFIED:20260107T131754Z
UID:10001081-1768069800-1768077000@www.franklinshopper.com
SUMMARY:Owl Prowl (Adults and Teens)
DESCRIPTION:Adults and teens aged 15 and older invited to join a Buttonwood naturalist on January 10\, 2026\, at 6:30 for an evening hike to experience owls in their natural habitat. Participants will learn about the owls native to the area in a short learning session\, followed by a hike on Buttonwood’s trails where you’ll have a chance to listen and look for owls. Bring your own red-light flashlight and dress warmly for the weather. The program is free (donations welcome)\, but registration is required and space is limited. For more information or to register\, visit buttonwoodnaturecenter.org\, call 717-762-0373 or email info@buttonwoodnaturecenter.org.
URL:https://www.franklinshopper.com/event/owl-prowl-adults-and-teens/
LOCATION:Buttonwood Nature Center\, 10356 Amsterdam Road\, Waynesboro\, PA\, 17268
ATTACH;FMTTYPE=image/png:https://www.franklinshopper.com/wp-content/uploads/2026/01/01-10_OwlProwl26_AD-1000-x-800.png
END:VEVENT
END:VCALENDAR