BEGIN:VCALENDAR
VERSION:2.0
PRODID:-//The Franklin Shopper - ECPv6.15.18//NONSGML v1.0//EN
CALSCALE:GREGORIAN
METHOD:PUBLISH
X-ORIGINAL-URL:https://www.franklinshopper.com
X-WR-CALDESC:Events for The Franklin Shopper
REFRESH-INTERVAL;VALUE=DURATION:PT1H
X-Robots-Tag:noindex
X-PUBLISHED-TTL:PT1H
BEGIN:VTIMEZONE
TZID:America/New_York
BEGIN:DAYLIGHT
TZOFFSETFROM:-0500
TZOFFSETTO:-0400
TZNAME:EDT
DTSTART:20250309T070000
END:DAYLIGHT
BEGIN:STANDARD
TZOFFSETFROM:-0400
TZOFFSETTO:-0500
TZNAME:EST
DTSTART:20251102T060000
END:STANDARD
BEGIN:DAYLIGHT
TZOFFSETFROM:-0500
TZOFFSETTO:-0400
TZNAME:EDT
DTSTART:20260308T070000
END:DAYLIGHT
BEGIN:STANDARD
TZOFFSETFROM:-0400
TZOFFSETTO:-0500
TZNAME:EST
DTSTART:20261101T060000
END:STANDARD
BEGIN:DAYLIGHT
TZOFFSETFROM:-0500
TZOFFSETTO:-0400
TZNAME:EDT
DTSTART:20270314T070000
END:DAYLIGHT
BEGIN:STANDARD
TZOFFSETFROM:-0400
TZOFFSETTO:-0500
TZNAME:EST
DTSTART:20271107T060000
END:STANDARD
END:VTIMEZONE
BEGIN:VEVENT
DTSTART;TZID=America/New_York:20260506T153000
DTEND;TZID=America/New_York:20260506T190000
DTSTAMP:20260419T165915
CREATED:20260302T131852Z
LAST-MODIFIED:20260302T131852Z
UID:10001179-1778081400-1778094000@www.franklinshopper.com
SUMMARY:Chambersburg FFA Annual Spring Greenhouse Sale 2026
DESCRIPTION:Each year\, the Chambersburg FFA works with the Greenhouse Management class at CASHS to grow plants to sell to our wonderful community. Students have worked hard to grow a variety of hanging baskets\, tomatoes\, peppers\, herbs\, bedding plants\, perennials\, and house plants. Also back by popular demand are our pot-a-penos. Please come out to support your local FFA chapter and find all of your plant needs.
URL:https://www.franklinshopper.com/event/chambersburg-ffa-annual-spring-greenhouse-sale-2026/2026-05-06/
LOCATION:Chambersburg Area Senior High School- Greenhouse\, 511 S 6th Street\, Chambersburg\, PA\, 17201\, United States
ATTACH;FMTTYPE=image/png:https://www.franklinshopper.com/wp-content/uploads/2026/02/Spring-Sale-Greenhouse-Flyer-2026-1.png
END:VEVENT
BEGIN:VEVENT
DTSTART;TZID=America/New_York:20260507T153000
DTEND;TZID=America/New_York:20260507T190000
DTSTAMP:20260419T165915
CREATED:20260302T131852Z
LAST-MODIFIED:20260302T131852Z
UID:10001180-1778167800-1778180400@www.franklinshopper.com
SUMMARY:Chambersburg FFA Annual Spring Greenhouse Sale 2026
DESCRIPTION:Each year\, the Chambersburg FFA works with the Greenhouse Management class at CASHS to grow plants to sell to our wonderful community. Students have worked hard to grow a variety of hanging baskets\, tomatoes\, peppers\, herbs\, bedding plants\, perennials\, and house plants. Also back by popular demand are our pot-a-penos. Please come out to support your local FFA chapter and find all of your plant needs.
URL:https://www.franklinshopper.com/event/chambersburg-ffa-annual-spring-greenhouse-sale-2026/2026-05-07/
LOCATION:Chambersburg Area Senior High School- Greenhouse\, 511 S 6th Street\, Chambersburg\, PA\, 17201\, United States
ATTACH;FMTTYPE=image/png:https://www.franklinshopper.com/wp-content/uploads/2026/02/Spring-Sale-Greenhouse-Flyer-2026-1.png
END:VEVENT
BEGIN:VEVENT
DTSTART;TZID=America/New_York:20260508T153000
DTEND;TZID=America/New_York:20260508T190000
DTSTAMP:20260419T165915
CREATED:20260302T131852Z
LAST-MODIFIED:20260302T131852Z
UID:10001181-1778254200-1778266800@www.franklinshopper.com
SUMMARY:Chambersburg FFA Annual Spring Greenhouse Sale 2026
DESCRIPTION:Each year\, the Chambersburg FFA works with the Greenhouse Management class at CASHS to grow plants to sell to our wonderful community. Students have worked hard to grow a variety of hanging baskets\, tomatoes\, peppers\, herbs\, bedding plants\, perennials\, and house plants. Also back by popular demand are our pot-a-penos. Please come out to support your local FFA chapter and find all of your plant needs.
URL:https://www.franklinshopper.com/event/chambersburg-ffa-annual-spring-greenhouse-sale-2026/2026-05-08/
LOCATION:Chambersburg Area Senior High School- Greenhouse\, 511 S 6th Street\, Chambersburg\, PA\, 17201\, United States
ATTACH;FMTTYPE=image/png:https://www.franklinshopper.com/wp-content/uploads/2026/02/Spring-Sale-Greenhouse-Flyer-2026-1.png
END:VEVENT
END:VCALENDAR