BEGIN:VCALENDAR
VERSION:2.0
PRODID:-//The Franklin Shopper - ECPv6.15.18//NONSGML v1.0//EN
CALSCALE:GREGORIAN
METHOD:PUBLISH
X-ORIGINAL-URL:https://www.franklinshopper.com
X-WR-CALDESC:Events for The Franklin Shopper
REFRESH-INTERVAL;VALUE=DURATION:PT1H
X-Robots-Tag:noindex
X-PUBLISHED-TTL:PT1H
BEGIN:VTIMEZONE
TZID:America/New_York
BEGIN:DAYLIGHT
TZOFFSETFROM:-0500
TZOFFSETTO:-0400
TZNAME:EDT
DTSTART:20250309T070000
END:DAYLIGHT
BEGIN:STANDARD
TZOFFSETFROM:-0400
TZOFFSETTO:-0500
TZNAME:EST
DTSTART:20251102T060000
END:STANDARD
BEGIN:DAYLIGHT
TZOFFSETFROM:-0500
TZOFFSETTO:-0400
TZNAME:EDT
DTSTART:20260308T070000
END:DAYLIGHT
BEGIN:STANDARD
TZOFFSETFROM:-0400
TZOFFSETTO:-0500
TZNAME:EST
DTSTART:20261101T060000
END:STANDARD
BEGIN:DAYLIGHT
TZOFFSETFROM:-0500
TZOFFSETTO:-0400
TZNAME:EDT
DTSTART:20270314T070000
END:DAYLIGHT
BEGIN:STANDARD
TZOFFSETFROM:-0400
TZOFFSETTO:-0500
TZNAME:EST
DTSTART:20271107T060000
END:STANDARD
END:VTIMEZONE
BEGIN:VEVENT
DTSTART;TZID=America/New_York:20260517T100000
DTEND;TZID=America/New_York:20260517T140000
DTSTAMP:20260425T223315
CREATED:20260424T154152Z
LAST-MODIFIED:20260424T154303Z
UID:10002025-1779012000-1779026400@www.franklinshopper.com
SUMMARY:Pulled Pork Dinner Fundraiser
DESCRIPTION:The Franklin County 4H Therapeutic Riding Center will host a Pulled Pork Dinner Fundraiser on Sunday\, May 17\, 2026\, from 10:00 a.m. to 2:00 p.m. at the Chambersburg Tractor Supply (1733 Lincoln Way East). Tickets are $15 and include pulled pork on a Martin’s Potato roll\, mac & cheese\, coleslaw\, and a chocolate chip cookie. Meals are provided by Ace Smoked Meats\, with presale tickets available by calling 717-263-9226. Proceeds benefit the Center’s mission of providing therapeutic horsemanship activities to persons with disabilities.
URL:https://www.franklinshopper.com/event/pulled-pork-dinner-fundraiser/
LOCATION:Chambersburg Tractor Supply\, 1733 Lincoln Way East\, Chambersburg\, PA\, 17201\, United States
END:VEVENT
END:VCALENDAR